BEGIN:VCALENDAR
VERSION:2.0
PRODID:-//Farkında Ol Güvende Kal - ECPv6.15.17.1//NONSGML v1.0//EN
CALSCALE:GREGORIAN
METHOD:PUBLISH
X-ORIGINAL-URL:https://www.farkindaolguvendekal.org
X-WR-CALDESC:Farkında Ol Güvende Kal için etkinlikler
REFRESH-INTERVAL;VALUE=DURATION:PT1H
X-Robots-Tag:noindex
X-PUBLISHED-TTL:PT1H
BEGIN:VTIMEZONE
TZID:UTC
BEGIN:STANDARD
TZOFFSETFROM:+0000
TZOFFSETTO:+0000
TZNAME:UTC
DTSTART:20200101T000000
END:STANDARD
END:VTIMEZONE
BEGIN:VEVENT
DTSTART;VALUE=DATE:20210407
DTEND;VALUE=DATE:20210408
DTSTAMP:20260422T152227
CREATED:20210115T103656Z
LAST-MODIFIED:20210216T234825Z
UID:1856-1617753600-1617839999@www.farkindaolguvendekal.org
SUMMARY:KİŞİSEL VERİLERİ KORUMA GÜNÜ
DESCRIPTION:6698 sayılı Kişisel Verilerin Korunması Kanunu 7 Nisan 2016 tarihinde yürürlüğe girmiştir. Kanunun yürürlüğe girmesi\, ülkemizde kişisel verilerin korunması alanında yeni bir dönemin başlamasına neden olmuştur. \n  \nGelişmeler bununla sınırlı kalmamış\, Kişisel Verileri Koruma Kurumu ile Milli Eğitim Bakanlığı iş birliği içerisinde yürütülen çalışmalar çerçevesinde 1 Eylül 2018 tarihli ve 30522 sayılı Resmi Gazetede yayımlanan MEB Eğitim Kurumları Sosyal Etkinlikler Yönetmeliğinde yapılan düzenleme ile okullarda “Kişisel Verileri Koruma Kulübü” kurulması ve 7 Nisan gününün “Kişisel Verileri Koruma Günü” olarak kutlanması kararlaştırılmıştır. \n  \nKişisel verilerin korunması hakkında ülkemiz için milat niteliğinde olan 7 Nisan 2016 tarihi\,  6698 sayılı Kişisel Verilerin Korunması Kanunu’nun yürürlüğe girdiği tarih olduğundan dolayı Türkiye için özel bir anlam ifade etmektedir. Bu kanunun Türkiye’yi kişisel veri koruma olgunluğu konusunda üst seviyelere taşıyacağına ve dünyada daha rekabetçi hale getireceğine inanıyoruz.
URL:https://www.farkindaolguvendekal.org/etkinlik/kisisel-verileri-koruma-gunu/
ATTACH;FMTTYPE=image/jpeg:https://www.farkindaolguvendekal.org/wp-content/uploads/2021/01/kisisel-veri-koromagunu.jpg
END:VEVENT
BEGIN:VEVENT
DTSTART;VALUE=DATE:20210128
DTEND;VALUE=DATE:20210129
DTSTAMP:20260422T152227
CREATED:20210115T102606Z
LAST-MODIFIED:20210228T130003Z
UID:1833-1611792000-1611878399@www.farkindaolguvendekal.org
SUMMARY:VERİ KORUMA GÜNÜ
DESCRIPTION:Türkiye’nin de aralarında bulunduğu 46 ülke\, 28 Ocak 1981 tarihinde Avrupa Konseyi “108 No’lu Kişisel Verilerin Otomatik İşleme Tabi Tutulması Karşısında Bireylerin Korunması Sözleşmesi”ni imzaladı ve bu tarih Veri Koruma Günü ilan edildi. \n  \n28 Ocak tarihi kişisel verilerin korunması açısından tarihi bir gün olduğu için\, Kişisel Verilerin Korunması Günü olarak kutlanmaktadır. 28 Ocak tarihini özel kılan Kişisel Verilerin Otomatik İşleme Tabi Tutulması Karşısında Bireylerin Korunmasına ilişkin 108 sayılı Sözleşme’nin 28 Ocak 1981 tarihinde imzaya açılmış olmasıdır. Türkiye’nin de Konsey üyesi diğer devletlerle birlikte aynı tarihte imzaladığı 108 Sayılı Sözleşme\, uluslararası bağlayıcı nitelikteki ilk sözleşmedir.
URL:https://www.farkindaolguvendekal.org/etkinlik/veri-koruma-gunu/
ATTACH;FMTTYPE=image/jpeg:https://www.farkindaolguvendekal.org/wp-content/uploads/2021/01/verikorumagunu.jpg
END:VEVENT
END:VCALENDAR